BEGIN:VCALENDAR
VERSION:2.0
PRODID:-//Jagran Lakecity University - ECPv6.5.0//NONSGML v1.0//EN
CALSCALE:GREGORIAN
METHOD:PUBLISH
X-ORIGINAL-URL:http://new.jlu.edu.in
X-WR-CALDESC:Events for Jagran Lakecity University
REFRESH-INTERVAL;VALUE=DURATION:PT1H
X-Robots-Tag:noindex
X-PUBLISHED-TTL:PT1H
BEGIN:VTIMEZONE
TZID:UTC
BEGIN:STANDARD
TZOFFSETFROM:+0000
TZOFFSETTO:+0000
TZNAME:UTC
DTSTART:20240101T000000
END:STANDARD
END:VTIMEZONE
BEGIN:VEVENT
DTSTART;VALUE=DATE:20240429
DTEND;VALUE=DATE:20240504
DTSTAMP:20260424T210530
CREATED:20240424T074847Z
LAST-MODIFIED:20240424T074908Z
UID:25418-1714348800-1714780799@new.jlu.edu.in
SUMMARY:VAISHLASIKI
DESCRIPTION:The University’s Faculty of Management and Commerce along with their Knowledge Partner Grant Thornton is organizing a 5-day Faculty Development Program on Data Analytics from 29th April to 3rd May 2024.
URL:http://new.jlu.edu.in/event/vaishlasiki/
LOCATION:Jagran Lakecity University\, Jagran Lakecity University SEH\, Bhopal\, 462007\, India
END:VEVENT
BEGIN:VEVENT
DTSTART;TZID=UTC:20240429T080000
DTEND;TZID=UTC:20240429T170000
DTSTAMP:20260424T210530
CREATED:20240424T062140Z
LAST-MODIFIED:20240424T074358Z
UID:25400-1714377600-1714410000@new.jlu.edu.in
SUMMARY:Lakecity Hack 2024
DESCRIPTION:JLU School of Engineering and Technology in collaboration with Code Crafters and Institution’s Innovation Council organizes LAKECITY HACK on 29th and 30th April 2023. \nThe event aims to promote creativity and highlight novel concepts and solutions.
URL:http://new.jlu.edu.in/event/lakecity-hack-2024/
LOCATION:Jagran Lakecity University\, Jagran Lakecity University SEH\, Bhopal\, 462007\, India
END:VEVENT
END:VCALENDAR