BEGIN:VCALENDAR
VERSION:2.0
PRODID:-//Jagran Lakecity University - ECPv6.5.0//NONSGML v1.0//EN
CALSCALE:GREGORIAN
METHOD:PUBLISH
X-WR-CALNAME:Jagran Lakecity University
X-ORIGINAL-URL:http://new.jlu.edu.in
X-WR-CALDESC:Events for Jagran Lakecity University
REFRESH-INTERVAL;VALUE=DURATION:PT1H
X-Robots-Tag:noindex
X-PUBLISHED-TTL:PT1H
BEGIN:VTIMEZONE
TZID:Asia/Kolkata
BEGIN:STANDARD
TZOFFSETFROM:+0530
TZOFFSETTO:+0530
TZNAME:IST
DTSTART:20240101T000000
END:STANDARD
TZID:UTC
BEGIN:STANDARD
TZOFFSETFROM:+0000
TZOFFSETTO:+0000
TZNAME:UTC
DTSTART:20240101T000000
END:STANDARD
END:VTIMEZONE
BEGIN:VEVENT
DTSTART;TZID=Asia/Kolkata:20240423T103000
DTEND;TZID=Asia/Kolkata:20240423T113000
DTSTAMP:20260425T035411
CREATED:20240424T074743Z
LAST-MODIFIED:20240424T074743Z
UID:25416-1713868200-1713871800@new.jlu.edu.in
SUMMARY:Etiquette Edge: The Art of Communication 3 Days Workshop
DESCRIPTION:The University’s Career Development Centre organizes a 3-day workshop on Communication and its importance. \nThe workshop is titled “Etiquette Edge: The Art of Communication” and will take place on 23rd\, 25th and 26th April. \n  \nNeed creative creation on social media for the Etiquette Edge: The Art of Communication 3 Days Workshop. \nTitle: Etiquette Edge: The Art of Communication 3 Days Workshop. \nDate: 23-04-2024\, 25-04-2024 & 26-04-2024 \nTime: 10:30 AM – 11:30 AM \nVenue: Seminar Hall C-Block \nAudience: SOET Pre-Final Year Students
URL:http://new.jlu.edu.in/event/etiquette-edge-the-art-of-communication-3-days-workshop/
LOCATION:Jagran Lakecity University\, Jagran Lakecity University SEH\, Bhopal\, 462007\, India
END:VEVENT
BEGIN:VEVENT
DTSTART;VALUE=DATE:20240416
DTEND;VALUE=DATE:20240417
DTSTAMP:20260425T035411
CREATED:20240424T074530Z
LAST-MODIFIED:20240424T074530Z
UID:25414-1713225600-1713311999@new.jlu.edu.in
SUMMARY:Data Design & Diversity
DESCRIPTION:Jagran School of Design\, Faculty of Journalism and Creative Studies organized a masterclass titled “Data\, Design & Diversity” with the University’s industry partner ImaginXP on 16th and 18th April 2023.
URL:http://new.jlu.edu.in/event/data-design-diversity/
LOCATION:Jagran Lakecity University\, Jagran Lakecity University SEH\, Bhopal\, 462007\, India
END:VEVENT
END:VCALENDAR